BEGIN:VCALENDAR
VERSION:2.0
PRODID:-//Squarespace Inc/Squarespace 6//v6//EN
BEGIN:VEVENT
UID:5e298abf0df7e27ff4a00285@squarespace.com
DTSTAMP:20200123T120113Z
DTSTART:20200713T003000Z
DTEND:20200918T013000Z
SUMMARY:Term 3\, 2020
END:VEVENT
END:VCALENDAR
