BEGIN:VCALENDAR
VERSION:2.0
PRODID:-//Squarespace Inc/Squarespace 6//v6//EN
BEGIN:VEVENT
UID:5e298a4b8dd05752c90e41d7@squarespace.com
DTSTAMP:20200123T120346Z
DTSTART:20200420T003000Z
DTEND:20200626T013000Z
SUMMARY:Term 2\, 2020
END:VEVENT
END:VCALENDAR
