BEGIN:VCALENDAR
VERSION:2.0
PRODID:-//Squarespace Inc/Squarespace 6//v6//EN
BEGIN:VEVENT
UID:5e298bb00199a14a2290e3ce@squarespace.com
DTSTAMP:20200123T121242Z
DTSTART:20200328T033000Z
DTEND:20200328T043000Z
SUMMARY:Gold Coast Grading Test A\, 2020
GEO:-28.013624;153.333365
LOCATION:Gold Coast TKD\, 114-136 Alexander Dr\, Nerang\, Qld\, Australia
END:VEVENT
END:VCALENDAR
