BEGIN:VCALENDAR
VERSION:2.0
PRODID:-//Squarespace Inc/Squarespace 6//v6//EN
BEGIN:VEVENT
UID:5e298c7f2fe631012d590a67@squarespace.com
DTSTAMP:20200123T121333Z
DTSTART:20200912T033000Z
DTEND:20200912T043000Z
SUMMARY:Gold Coast Grading Test B\, 2020
GEO:-28.013624;153.333365
LOCATION:Gold Coast TKD\, 114-136 Alexander Drive\, Nerang\, Qld\, Australi
 a
END:VEVENT
END:VCALENDAR
