BEGIN:VCALENDAR
VERSION:2.0
PRODID:-//Squarespace Inc/Squarespace 6//v6//EN
BEGIN:VEVENT
UID:5e298cbec2509c20c682e161@squarespace.com
DTSTAMP:20200123T121121Z
DTSTART:20200905T033000Z
DTEND:20200905T043000Z
SUMMARY:Brisbane Grading Test B\, 2020
GEO:-27.510172;153.032937
LOCATION:Brisbane TKD\, 474 Ipswich Rd\, Annerley\, Qld\, Australia
END:VEVENT
END:VCALENDAR
