BEGIN:VCALENDAR
VERSION:2.0
PRODID:-//Squarespace Inc/Squarespace 6//v6//EN
BEGIN:VEVENT
UID:5e298b342fe631012d58e18e@squarespace.com
DTSTAMP:20200123T120309Z
DTSTART:20201006T003000Z
DTEND:20201211T013000Z
SUMMARY:Term 4\, 2020
END:VEVENT
END:VCALENDAR
