BEGIN:VCALENDAR
VERSION:2.0
PRODID:-//Squarespace Inc/Squarespace 6//v6//EN
BEGIN:VEVENT
UID:5e29897f78c38064efc5f9f4@squarespace.com
DTSTAMP:20200123T120709Z
DTSTART:20200128T000000Z
DTEND:20200403T010000Z
SUMMARY:Term 1\, 2020
END:VEVENT
END:VCALENDAR
